BEGIN:VCALENDAR
VERSION:2.0
PRODID:-//Homeless Children&#039;s Education Fund - ECPv6.6.0.2//NONSGML v1.0//EN
CALSCALE:GREGORIAN
METHOD:PUBLISH
X-WR-CALNAME:Homeless Children&#039;s Education Fund
X-ORIGINAL-URL:https://homelessfund.org
X-WR-CALDESC:Events for Homeless Children&#039;s Education Fund
REFRESH-INTERVAL;VALUE=DURATION:PT1H
X-Robots-Tag:noindex
X-PUBLISHED-TTL:PT1H
BEGIN:VTIMEZONE
TZID:UTC
BEGIN:STANDARD
TZOFFSETFROM:+0000
TZOFFSETTO:+0000
TZNAME:UTC
DTSTART:20220101T000000
END:STANDARD
END:VTIMEZONE
BEGIN:VEVENT
DTSTART;TZID=UTC:20221016T080000
DTEND;TZID=UTC:20221016T100000
DTSTAMP:20260419T130800
CREATED:20220929T021841Z
LAST-MODIFIED:20220929T021841Z
UID:7586-1665907200-1665914400@homelessfund.org
SUMMARY:YOU CAN. Support
DESCRIPTION:You can support HCEF and work on your fitness goals by signing up for the SLAAM Cares 5K Run/Walk. \nA portion of all proceeds will benefit Homeless Children’s Education Fund. \nRegister here: SLAAM Cares 5K Run/Walk 
URL:https://homelessfund.org/event/you-can-support/
LOCATION:PA
CATEGORIES:Homeless Children's Awareness Month,Outreach
END:VEVENT
END:VCALENDAR