BEGIN:VCALENDAR
VERSION:2.0
PRODID:-//Homeless Children&#039;s Education Fund - ECPv6.6.0.2//NONSGML v1.0//EN
CALSCALE:GREGORIAN
METHOD:PUBLISH
X-WR-CALNAME:Homeless Children&#039;s Education Fund
X-ORIGINAL-URL:https://homelessfund.org
X-WR-CALDESC:Events for Homeless Children&#039;s Education Fund
REFRESH-INTERVAL;VALUE=DURATION:PT1H
X-Robots-Tag:noindex
X-PUBLISHED-TTL:PT1H
BEGIN:VTIMEZONE
TZID:UTC
BEGIN:STANDARD
TZOFFSETFROM:+0000
TZOFFSETTO:+0000
TZNAME:UTC
DTSTART:20220101T000000
END:STANDARD
END:VTIMEZONE
BEGIN:VEVENT
DTSTART;TZID=UTC:20220326T180000
DTEND;TZID=UTC:20220326T200000
DTSTAMP:20260419T163711
CREATED:20220221T170016Z
LAST-MODIFIED:20220221T170016Z
UID:7305-1648317600-1648324800@homelessfund.org
SUMMARY:Greek Sing 2022
DESCRIPTION:Greek Sing 2022 is March 26\, 2022 at Soldiers and Sailors Memorial Hall. This event is hosted by the student leaders of Greek Organizations at Carnegie Mellon University. Greek Sing “aims to stimulate philanthropic & community service efforts for the betterment of the Greek community\, Carnegie Mellon campus community\, and the Pittsburgh Community.” \nThese students run fundraisers all year to raise money for a selected charity. At the show the Greeks actually sing\, performing their favorite musicals for the audience. This is a celebration of all the money students were able to fundraise throughout the year. The total is awarded to the charity at the end of the show. \nHomeless Children’s Education Fund is the Greek Sing charity beneficiary for 2022 and 2023. \nVisit their website and follow their social media accounts to get the latest information.
URL:https://homelessfund.org/event/greek-sing-2022/
LOCATION:Soldiers & Sailors Memorial Hall\, 4141 Fifth Ave\, Pittsburgh\, PA\, 15213\, United States
CATEGORIES:Fundraiser
ATTACH;FMTTYPE=image/png:https://homelessfund.org/wp-content/uploads/2022/02/Greek-Sing-Posts-e1645462761343.png
END:VEVENT
END:VCALENDAR